BEGIN:VCALENDAR
VERSION:2.0
PRODID:-//École Neuve - ECPv6.15.11//NONSGML v1.0//EN
CALSCALE:GREGORIAN
METHOD:PUBLISH
X-ORIGINAL-URL:https://ap.ecole9ve.be
X-WR-CALDESC:Events for École Neuve
REFRESH-INTERVAL;VALUE=DURATION:PT1H
X-Robots-Tag:noindex
X-PUBLISHED-TTL:PT1H
BEGIN:VTIMEZONE
TZID:Europe/Brussels
BEGIN:DAYLIGHT
TZOFFSETFROM:+0100
TZOFFSETTO:+0200
TZNAME:CEST
DTSTART:20190331T010000
END:DAYLIGHT
BEGIN:STANDARD
TZOFFSETFROM:+0200
TZOFFSETTO:+0100
TZNAME:CET
DTSTART:20191027T010000
END:STANDARD
BEGIN:DAYLIGHT
TZOFFSETFROM:+0100
TZOFFSETTO:+0200
TZNAME:CEST
DTSTART:20200329T010000
END:DAYLIGHT
BEGIN:STANDARD
TZOFFSETFROM:+0200
TZOFFSETTO:+0100
TZNAME:CET
DTSTART:20201025T010000
END:STANDARD
BEGIN:DAYLIGHT
TZOFFSETFROM:+0100
TZOFFSETTO:+0200
TZNAME:CEST
DTSTART:20210328T010000
END:DAYLIGHT
BEGIN:STANDARD
TZOFFSETFROM:+0200
TZOFFSETTO:+0100
TZNAME:CET
DTSTART:20211031T010000
END:STANDARD
END:VTIMEZONE
BEGIN:VEVENT
DTSTART;TZID=Europe/Brussels:20201215T190000
DTEND;TZID=Europe/Brussels:20201215T203000
DTSTAMP:20260419T211539
CREATED:20201204T093850Z
LAST-MODIFIED:20201214T124539Z
UID:147-1608058800-1608064200@ap.ecole9ve.be
SUMMARY:Réunion du Noyau de l’AP
DESCRIPTION:En ligne (Jitsi.meet)
URL:https://ap.ecole9ve.be/event/reunion-du-noyau-de-lap-20201210/
END:VEVENT
BEGIN:VEVENT
DTSTART;TZID=Europe/Brussels:20201112T190000
DTEND;TZID=Europe/Brussels:20201112T190000
DTSTAMP:20260419T211539
CREATED:20201024T111222Z
LAST-MODIFIED:20201204T094143Z
UID:119-1605207600-1605207600@ap.ecole9ve.be
SUMMARY:Réunion du Noyau de l'AP
DESCRIPTION:En ligne (Jitsi.meet)
URL:https://ap.ecole9ve.be/event/reunion-du-noyau-de-lap-20201024/
END:VEVENT
END:VCALENDAR