BEGIN:VCALENDAR
VERSION:2.0
PRODID:-//École Neuve - ECPv6.15.11//NONSGML v1.0//EN
CALSCALE:GREGORIAN
METHOD:PUBLISH
X-WR-CALNAME:École Neuve
X-ORIGINAL-URL:https://ap.ecole9ve.be
X-WR-CALDESC:Events for École Neuve
REFRESH-INTERVAL;VALUE=DURATION:PT1H
X-Robots-Tag:noindex
X-PUBLISHED-TTL:PT1H
BEGIN:VTIMEZONE
TZID:Europe/Brussels
BEGIN:DAYLIGHT
TZOFFSETFROM:+0100
TZOFFSETTO:+0200
TZNAME:CEST
DTSTART:20190331T010000
END:DAYLIGHT
BEGIN:STANDARD
TZOFFSETFROM:+0200
TZOFFSETTO:+0100
TZNAME:CET
DTSTART:20191027T010000
END:STANDARD
BEGIN:DAYLIGHT
TZOFFSETFROM:+0100
TZOFFSETTO:+0200
TZNAME:CEST
DTSTART:20200329T010000
END:DAYLIGHT
BEGIN:STANDARD
TZOFFSETFROM:+0200
TZOFFSETTO:+0100
TZNAME:CET
DTSTART:20201025T010000
END:STANDARD
BEGIN:DAYLIGHT
TZOFFSETFROM:+0100
TZOFFSETTO:+0200
TZNAME:CEST
DTSTART:20210328T010000
END:DAYLIGHT
BEGIN:STANDARD
TZOFFSETFROM:+0200
TZOFFSETTO:+0100
TZNAME:CET
DTSTART:20211031T010000
END:STANDARD
BEGIN:DAYLIGHT
TZOFFSETFROM:+0100
TZOFFSETTO:+0200
TZNAME:CEST
DTSTART:20220327T010000
END:DAYLIGHT
BEGIN:STANDARD
TZOFFSETFROM:+0200
TZOFFSETTO:+0100
TZNAME:CET
DTSTART:20221030T010000
END:STANDARD
BEGIN:DAYLIGHT
TZOFFSETFROM:+0100
TZOFFSETTO:+0200
TZNAME:CEST
DTSTART:20230326T010000
END:DAYLIGHT
BEGIN:STANDARD
TZOFFSETFROM:+0200
TZOFFSETTO:+0100
TZNAME:CET
DTSTART:20231029T010000
END:STANDARD
BEGIN:DAYLIGHT
TZOFFSETFROM:+0100
TZOFFSETTO:+0200
TZNAME:CEST
DTSTART:20240331T010000
END:DAYLIGHT
BEGIN:STANDARD
TZOFFSETFROM:+0200
TZOFFSETTO:+0100
TZNAME:CET
DTSTART:20241027T010000
END:STANDARD
BEGIN:DAYLIGHT
TZOFFSETFROM:+0100
TZOFFSETTO:+0200
TZNAME:CEST
DTSTART:20250330T010000
END:DAYLIGHT
BEGIN:STANDARD
TZOFFSETFROM:+0200
TZOFFSETTO:+0100
TZNAME:CET
DTSTART:20251026T010000
END:STANDARD
BEGIN:DAYLIGHT
TZOFFSETFROM:+0100
TZOFFSETTO:+0200
TZNAME:CEST
DTSTART:20260329T010000
END:DAYLIGHT
BEGIN:STANDARD
TZOFFSETFROM:+0200
TZOFFSETTO:+0100
TZNAME:CET
DTSTART:20261025T010000
END:STANDARD
END:VTIMEZONE
BEGIN:VEVENT
DTSTART;TZID=Europe/Brussels:20251011T170000
DTEND;TZID=Europe/Brussels:20251011T180000
DTSTAMP:20260419T173238
CREATED:20251001T200729Z
LAST-MODIFIED:20251002T081619Z
UID:1077-1760202000-1760205600@ap.ecole9ve.be
SUMMARY:Assemblée générale de l‘Association des parents de l‘Ecole neuve
DESCRIPTION:Ordre du jour de l’AG: \n\n\n\n\nPrésentation de l‘AP (5min)\n\n\n\nRapport sur le dernier Copa (10min)\n\n\n\nDouble implantation de l’école: tour des questions des parents à faire remonter à la direction et à la Commune (15min)\n\n\n\nRetour sur le mini sondage de l‘AP (10 min)\n\n\n\nInitiative parentale sur les smartphones (10 min)\n\n\n\nDivers (5min)
URL:https://ap.ecole9ve.be/event/ag-champignons/
LOCATION:École 16\, 129 avenue Frans Courtens\, Schaerbeek
CATEGORIES:Events
ATTACH;FMTTYPE=image/png:https://ap.ecole9ve.be/wp-content/uploads/2025/10/Champignons-en-fete.png
END:VEVENT
BEGIN:VEVENT
DTSTART;TZID=Europe/Brussels:20241130T150000
DTEND;TZID=Europe/Brussels:20241130T150000
DTSTAMP:20260419T173238
CREATED:20241112T101101Z
LAST-MODIFIED:20241112T101119Z
UID:1059-1732978800-1732978800@ap.ecole9ve.be
SUMMARY:Festival d'automne
DESCRIPTION:Un moment chaleureux et festif à partager en famille et avec les copains de l’École Neuve ! \n\n\n\nRejoignez-nous pour une journée conviviale aux saveurs d’automne. Partagez un moment autour d’une auberge espagnole où chacun est invité à apporter un plat à partager : soupe\, sandwiches\, boulettes\, gâteaux… \n\n\n\nPour les enfants\, de nombreuses activités autour de l’automne les attendent. La journée se terminera en beauté avec une soirée dansante pour toute la famille. Ne manquez pas ce moment festif !
URL:https://ap.ecole9ve.be/event/festival-d-automne/
LOCATION:École 16\, 129 avenue Frans Courtens\, Schaerbeek\, 1030\, Belgium
END:VEVENT
BEGIN:VEVENT
DTSTART;TZID=Europe/Brussels:20241119T190000
DTEND;TZID=Europe/Brussels:20241119T190000
DTSTAMP:20260419T173238
CREATED:20241112T100732Z
LAST-MODIFIED:20241112T100820Z
UID:1052-1732042800-1732042800@ap.ecole9ve.be
SUMMARY:Foire à projet
DESCRIPTION:Parents\, rejoignez-nous pour un moment d’échange et de créativité où chacun pourra présenter ses idées et projets pour l’Association des Parents. \n\n\n\nVenez proposer vos initiatives et contribuer à façonner les futures activités pour notre école et nos enfants !
URL:https://ap.ecole9ve.be/event/foire-a-projet/
LOCATION:JORAN – Cidrothèque\, Rue Jacques Jansen 3\, Schaerbeek\, 1030\, Belgium
END:VEVENT
BEGIN:VEVENT
DTSTART;TZID=Europe/Brussels:20241114T080000
DTEND;TZID=Europe/Brussels:20241114T080000
DTSTAMP:20260419T173238
CREATED:20241112T100123Z
LAST-MODIFIED:20241112T100530Z
UID:1047-1731571200-1731571200@ap.ecole9ve.be
SUMMARY:Café du matin
DESCRIPTION:Retrouvez-nous devant l’école pour un moment de rencontre autour d’un café (ou d’un thé). \n\n\n\nC’est l’occasion idéale pour échanger\, poser vos questions\, et en savoir plus sur nos événements à venir. Venez nombreux !
URL:https://ap.ecole9ve.be/event/cafe-du-matin/
LOCATION:Ecole Neuve\, Avenue Ernest Cambier 2\, Schaerbeek\, 1030
END:VEVENT
BEGIN:VEVENT
DTSTART;TZID=Europe/Brussels:20240415T190000
DTEND;TZID=Europe/Brussels:20240415T210000
DTSTAMP:20260419T173238
CREATED:20240403T081418Z
LAST-MODIFIED:20240403T081419Z
UID:1042-1713207600-1713214800@ap.ecole9ve.be
SUMMARY:Assemblée Générale de l’Association des Parents de l’Ecole Neuve - Avril 2024
DESCRIPTION:Chers Parents\, \n\n\n\nLa prochaine assemblée générale de l’association des parents de l’école neuve aura lieu le 15/04/2024 à 19h00 au réfectoire. \n\n\n\nA l’ordre du jour : \n\n\n\n– Approbation du procès-verbal de l’assemblée générale de l’association des parents de l’école neuve du 7/11/2024 dont vous avez reçu une copie par mail ; \n\n\n\n– Présentation des principaux résultats du questionnaire distribué aux parents et débat ; \n\n\n\n– Rapport oral des points traités au Copa du 12/02/2024 (PV du COPA reçu par mail). \n\n\n\nAu plaisir de vous voir nombreux ! \n\n\n\nPourquoi ? \n\n\n\nLes parents sont des acteurs de l’école à part entière ; \n\n\n\nL’association des parents représente l’ensemble des parents dans leur diversité ; \n\n\n\nL’association des parents est un pont entre les parents et l’école afin de créer un lieu de coopération ; \n\n\n\nEn nous rassemblant\, nous pouvons débattre\, échanger\, initier des projets et créer une communauté rassemblée autour de valeurs telles que la paix\, le respect d’autrui\, l’esprit critique\, la liberté d’opinion et de parole\, la joie et le plaisir\, l’épanouissement ; \n\n\n\nL’équipe de l’AP
URL:https://ap.ecole9ve.be/event/ag-avril-24/
LOCATION:Ecole Neuve\, Avenue Ernest Cambier 2\, Schaerbeek\, 1030
CATEGORIES:Events
END:VEVENT
BEGIN:VEVENT
DTSTART;TZID=Europe/Brussels:20240316T150000
DTEND;TZID=Europe/Brussels:20240316T220000
DTSTAMP:20260419T173238
CREATED:20240214T172128Z
LAST-MODIFIED:20240214T225343Z
UID:1009-1710601200-1710626400@ap.ecole9ve.be
SUMMARY:Festival du printemps
DESCRIPTION:Salut les parents ! \n\n\n\nVenez célébrer le printemps le 16 mars à l’école 16 avec vos enfants et vos amis\, vos plus belles couleurs et vos jolies fleurs. \n\n\n\nAu programme\, atelier semi\, origami\, couronne de fleurs\, jeux en boix\, chateau gonflable\, grimage\, coin lecture\, baby corner\, et parents DJ ! \n\n\n\n\n\n\n\nProgramme : \n\n\n\n\nAtelier semi de graines\n\n\n\nAtelier Origami \n\n\n\nAtelier couronne de fleurs\n\n\n\nJeux en bois\n\n\n\nChâteau gonflable \n\n\n\nGrimage\n\n\n\nCoin lecture douillet de coussins (ramener vos coussins svp) \n\n\n\nCoin bébé / Baby corner\n\n\n\nDe 19 à 22h : DJ de parents de l’école 9ve à la ligne \n\n\n\n\nBuffet : \n\n\n\nBuffer coloré de printemps fruits et légumes de saison (pas de chips\, pas de bonbons)  \n\n\n\nBar : \n\n\n\nBière\, vin\, eau plate\, eau pétillante\, grenadine\, jus  \n\n\n\nDresscode : \n\n\n\nLes couleurs du printemps\, une fleur\, des fleurs\, …  \n\n\n\nAdresse : \n\n\n\nEcole 16 \n\n\n\nPrévoyez du cash … \n\n\n\n\n\n\n\nEnvie de nous aider ? Retrouver ici le tableau de participation et inscrivez-vous.  \n\n\n\n\nTableau de participation
URL:https://ap.ecole9ve.be/event/festival-du-printemps/
LOCATION:École 16\, 31 Boulevard Léopold III\, Schaerbeek\, Bruxelles\, 1030\, Belgium
END:VEVENT
BEGIN:VEVENT
DTSTART;TZID=Europe/Brussels:20231107T190000
DTEND;TZID=Europe/Brussels:20231107T210000
DTSTAMP:20260419T173238
CREATED:20231004T154133Z
LAST-MODIFIED:20231106T195301Z
UID:967-1699383600-1699390800@ap.ecole9ve.be
SUMMARY:Assemblée Générale de l’Association des Parents de l’Ecole Neuve 2023
DESCRIPTION:L’association des PARENTS de l’école NEUVE vous invite à son ASSEMBLEE GENERALE \n\n\n\nLe MARDI 7 novembre 2023 à 19h00 au réfectoire \n\n\n\nPourquoi ? \n\n\n\n\nLes parents sont des acteurs de l’école à part entière ;\n\n\n\nL’association des parents représente l’ensemble des parents dans leur diversité ;\n\n\n\nL’association des parents est un pont entre les parents et l’école afin de créer un lieu de coopération ;\n\n\n\nEn nous rassemblant\, nous pouvons débattre\, échanger\, initier des projets et créer une communauté rassemblée autour de valeurs telles que la paix\, le respect d’autrui\, l’esprit critique\, la liberté d’opinion et de parole\, la joie et le plaisir\, l’épanouissement ;\n\n\n\n\nOrdre du jour : \n\n\n\n\nPrésentation de l’association des parents\, de son fonctionnement (cellule administrative\, cellule communication et cellule Copa ainsi que le comité des fêtes)\n\n\n\nElections des membres de l’association des parents\n\n\n\nVerre de l’amitié\n\n\n\n\nELECTIONS – Appel aux candidatures : \n\n\n\nTous les deux ans\, des élections doivent être organisées pour l’élection des membres de l’association des parents\, ce qui est le cas pour cette année scolaire. \n\n\n\nL’association des parents a besoin de parents volontaires pour fonctionner. \n\n\n\nLes élections se dérouleront lors de l’assemblée générale du 7/11/2023. \n\n\n\nLes candidatures peuvent être adressées jusqu’au 6/11/2023 au secrétariat de l’école neuve. \n\n\n\nOu inscrivez-vous directement ICI.   \n\n\n\n\n\n\n\nAu plaisir de vous rencontrer\, \n\n\n\nL’équipe de l’AP
URL:https://ap.ecole9ve.be/event/ag-01-2023/
END:VEVENT
BEGIN:VEVENT
DTSTART;TZID=Europe/Brussels:20231021T150000
DTEND;TZID=Europe/Brussels:20231021T220000
DTSTAMP:20260419T173238
CREATED:20231002T094052Z
LAST-MODIFIED:20240214T165214Z
UID:938-1697900400-1697925600@ap.ecole9ve.be
SUMMARY:La fête d'Halloween des parents de l'école Neuve
DESCRIPTION:Salut les parents! \n\n\n\nVenez célébrer Halloween le 21 octobre au Citizen Corner avec vos enfants et vos amis\, votre plus beau costume/déguisement qui n’effraie pas trop (ou au minimum une touche d’orange & noir) et vos rollers. \n\n\n\nNous aurons l’occasion aussi de nous déchaîner sur les rythmes endiablés de la batterie de Pelusa Button qu’on rémunérera au chapeau 🎩 !  \n\n\n\nAu Programme\n\n\n\n\n15-17h : Rollers party – Draisienne & Trotinette bienvenue\n\n\n\n17-19h : Pelusa Button – Concert drummer sur des tubes pour nous faire danser\n\n\n\n19-22h : Les parents DJ \n\n\n\n\nPour se sustenter nous comptons sur vous pour nous préparer vos soupes\, quiches ou tartines dont vous seul.es connaissez le secret. Côté vaisselle\, merci à chacun d’apporter sa tasse ou son bol.  \n\n\n\nPlus on est de fous\, plus on rit\, n’hésitez pas à inviter vos amis !
URL:https://ap.ecole9ve.be/event/halloween-2023/
LOCATION:Citizen Corner\, Rue Godefroid Devreese 34\, Bruxelles\, 1030\, Belgium
END:VEVENT
BEGIN:VEVENT
DTSTART;TZID=Europe/Brussels:20230922T180000
DTEND;TZID=Europe/Brussels:20230922T200000
DTSTAMP:20260419T173238
CREATED:20230914T205635Z
LAST-MODIFIED:20230917T221051Z
UID:912-1695405600-1695412800@ap.ecole9ve.be
SUMMARY:Réunion Apéro
DESCRIPTION:Les parents du Comité des fêtes vous proposent de se joindre à eux en vue de renforcer leurs rangs. Deux moments la semaine prochaine : \n\n\n\n\nun café/thé à l’école pour les matinaux le jeudi matin\,\n\n\n\nun apéro kids friendly à la cidrothèque Joran (Place Janssens) pour se rencontrer\, échanger\, et co-construire les prochains évènement festifs en toute convivialité\n\n\n\n\n \n\n\n\n\n\n\n\n\n\n\nLe Comité est ouvert à tous.tes. Tout parent de l’École Neuve peut soutenir le groupe à hauteur de ses moyens\, de ses talents… et de ses disponibilités ! \n\n\n\n\n\n\n\nVous pouvez par ailleurs d’ores et déjà réserver votre fin d’après-midi/soirée du samedi 21 octobre : le Comité des fêtes vous concocte une petite surprise comme il en a le secret… \n\n\n\n\n\n\n\nAu plaisir de vous rencontrer !
URL:https://ap.ecole9ve.be/event/reunion-apero/
LOCATION:Chez Joran\, Rue Jacques Jansen 3\,\, Schaerbeek\, 1030\, Belgium
ATTACH;FMTTYPE=image/jpeg:https://ap.ecole9ve.be/wp-content/uploads/2023/09/WhatsApp-Image-2023-09-15-at-13.59.16.jpeg
END:VEVENT
BEGIN:VEVENT
DTSTART;TZID=Europe/Brussels:20230921T073000
DTEND;TZID=Europe/Brussels:20230921T100000
DTSTAMP:20260419T173238
CREATED:20230914T205314Z
LAST-MODIFIED:20230917T221038Z
UID:909-1695281400-1695290400@ap.ecole9ve.be
SUMMARY:Café matinal
DESCRIPTION:Les parents du Comité des fêtes vous proposent de se joindre à eux en vue de renforcer leurs rangs. Deux moments la semaine prochaine : \n\n\n\n\nun café/thé à l’école pour les matinaux le jeudi matin\,\n\n\n\nun apéro kids friendly à la cidrothèque Joran (Place Janssens) pour se rencontrer\, échanger\, et co-construire les prochains évènement festifs en toute convivialité\n\n\n\n\n \n\n\n\n\n\n\n\n\n\n\nLe Comité est ouvert à tous.tes. Tout parent de l’École Neuve peut soutenir le groupe à hauteur de ses moyens\, de ses talents… et de ses disponibilités ! \n\n\n\n\n\n\n\nVous pouvez par ailleurs d’ores et déjà réserver votre fin d’après-midi/soirée du samedi 21 octobre : le Comité des fêtes vous concocte une petite surprise comme il en a le secret… \n\n\n\n\n\n\n\nAu plaisir de vous rencontrer !
URL:https://ap.ecole9ve.be/event/cafe-matinal/
LOCATION:Ecole Neuve\, Avenue Ernest Cambier 2\, Schaerbeek\, 1030
END:VEVENT
BEGIN:VEVENT
DTSTART;TZID=Europe/Brussels:20230608T190000
DTEND;TZID=Europe/Brussels:20230608T210000
DTSTAMP:20260419T173238
CREATED:20230524T120709Z
LAST-MODIFIED:20230524T120932Z
UID:900-1686250800-1686258000@ap.ecole9ve.be
SUMMARY:ASSEMBLÉE GÉNÉRALE DE L’ASSOCIATION DES PARENTS DE L’ECOLE NEUVE
DESCRIPTION:Assemblée Générale de l’Association des Parents de l’Ecole Neuve Nous vous invitons chaleureusement à notre Assemblée générale le 8 juin à 19h00. Venez partager un moment convivial et informatif avec nous !Pourquoi ?-Les parents sont des acteurs de l’école à part entière ;-C’est par le biais de l’association des parents que les parents peuvent faireentendre leur point de vue\, les difficultés rencontrées\, leurs inquiétudes ;-En nous rassemblant\, nous pouvons débattre\, échanger\, initier des projetset ainsi participer à construire l’école que nous souhaitons pour nosenfants !Quand ? le jeudi 8 juin 2022 de 19h00 à 21h00Où ? dans les locaux de l’écoleOrdre du jour :1. Retour sur la Fancy Fair : vos histoires et souvenirs sont les bienvenus ! ;2. Informations sur les sujets discutés lors du dernier Copa : piscine\, sorties\, etc… ;3. Tronc commun pacte d’excellence : restez informés des changements à venir ;4. Élections de l’AP 2023-2024 : votre voix compte ! ;5. Le comité des fêtes ;6. Questions\, réponses et partage. \n\n\n\nRejoignez nous autour d’un drink dans une ambiance chaleureuse et détendue \n\n\n\nPour rendre la soirée encore plus agréable\, nous vous proposons d’amener de quoi partager un apero/drink sous forme d’auberge espagnole pour rencontrer d’autres parents et profiter de cet instant de convivialité. \n\n\n\nNe manquez pas cette occasion de vous impliquer dans la vie de l’école et de contribuer à l’éducation de nos enfants. Rejoignez-nous le 8 juin à 19h dans les locaux de l’Ecole 9ve \n\n\n\nAu plaisir de vous rencontrer\,L’équipe de l’AP
URL:https://ap.ecole9ve.be/event/ag-juin23/
LOCATION:Ecole Neuve\, Avenue Ernest Cambier 2\, Schaerbeek\, 1030
CATEGORIES:Events
END:VEVENT
BEGIN:VEVENT
DTSTART;TZID=Europe/Brussels:20221124T183000
DTEND;TZID=Europe/Brussels:20221124T210000
DTSTAMP:20260419T173238
CREATED:20221114T101851Z
LAST-MODIFIED:20221114T164130Z
UID:885-1669314600-1669323600@ap.ecole9ve.be
SUMMARY:Assemblée Générale de l’Association des Parents de l’Ecole Neuve
DESCRIPTION:Assemblée Générale de l’Association des Parents de l’Ecole NeuvePourquoi ?-Les parents sont des acteurs de l’école à part entière ;-C’est par le biais de l’association des parents que les parents peuvent faireentendre leur point de vue\, les difficultés rencontrées\, leurs inquiétudes ;-En nous rassemblant\, nous pouvons débattre\, échanger\, initier des projetset ainsi participer à construire l’école que nous souhaitons pour nosenfants !Quand ? le jeudi 24 novembre 2022 de 18h30 à 21hOù ? à l’école NeuveOrdre du jour :1. Mot d’accueil et bienvenue nouveaux parents ;2. Rappel Fonctionnement AP + nouveau membre COPA ;3. Résultats enquête et présentation ;4. Questions réponses ; 5. Plan pilotage présenté par la direction ;6. Projet pédagogique présenté par la direction ;7. Présentation logo de l’école présenté par la direction ;8. Good news : les bénéfices de la Fancy fair ;9. Comité des fêtes – nouvelles énergies.Auberge espagnole – si vous le souhaitez\, emportez avec vous boissons\,apéros\, petits encas pour rendre ce moment plus convivial. \n\n\n\nAu plaisir de vous rencontrer\,L’équipe de l’AP
URL:https://ap.ecole9ve.be/event/ag-novembre/
LOCATION:Ecole Neuve\, Avenue Ernest Cambier 2\, Schaerbeek\, 1030
CATEGORIES:Events
ATTACH;FMTTYPE=image/png:https://ap.ecole9ve.be/wp-content/uploads/2022/11/AP-AG-24-11-2022-A6-LinkedIn-Post.png
END:VEVENT
BEGIN:VEVENT
DTSTART;TZID=Europe/Brussels:20220602T180000
DTEND;TZID=Europe/Brussels:20220602T200000
DTSTAMP:20260419T173238
CREATED:20220530T085843Z
LAST-MODIFIED:20220530T090106Z
UID:802-1654192800-1654200000@ap.ecole9ve.be
SUMMARY:Assemblée Générale de l’Association des Parents de l’Ecole Neuve
DESCRIPTION:Assemblée Générale de l’Association des Parents de l’Ecole NeuveLa fin de l’année scolaire pointe déjà le bout de son nez.Mais avant les vacances\, venez nombreux à l’assemblée générale de l’écoleneuve !Pourquoi ?-Les parents sont des acteurs de l’école à part entière ;-C’est par le biais de l’association des parents que les parents peuvent faireentendre leur point de vue\, les difficultés rencontrées\, leurs inquiétudes ;-En nous rassemblant\, nous pouvons débattre\, échanger\, initier des projetset ainsi participer à construire l’école que nous souhaitons pour nosenfants !Quand ? le jeudi 2 juin 2022 de 18h00 à 20h00Où ? dans la Cour de l’écoleOrdre du jour :1. Bilan d’une année scolaire au niveau communication : de l’école vers lesparents et de l’association des parents vers les parents ;2. Fancy Fair – remerciement – enquête ;3. Rôle du parent relais et charte ;4. Compte-rendu du conseil de participation (COPA) dont le plan de pilotage ;5. Echanges et perspectives sur les activités de l’association : foire auxsuggestions ;6. Divers.Auberge espagnole – si vous le souhaitez\, emportez avec vous boissons\,apéros\, petits encas pour rendre ce moment plus convivial. \n\n\n\nAu plaisir de vous rencontrer\,L’équipe de l’AP
URL:https://ap.ecole9ve.be/event/assemblee-generale-de-lassociation-des-parents-de-lecole-neuve-2/
LOCATION:Ecole Neuve\, Avenue Ernest Cambier 2\, Schaerbeek\, 1030
CATEGORIES:Events
ATTACH;FMTTYPE=image/jpeg:https://ap.ecole9ve.be/wp-content/uploads/2022/05/AP-AG-02-06-2022-A6-scaled.jpg
END:VEVENT
BEGIN:VEVENT
DTSTART;TZID=Europe/Brussels:20220319T153000
DTEND;TZID=Europe/Brussels:20220319T220000
DTSTAMP:20260419T173238
CREATED:20220224T200323Z
LAST-MODIFIED:20220225T082826Z
UID:565-1647703800-1647727200@ap.ecole9ve.be
SUMMARY:La Boom 9ve
DESCRIPTION:Parce que ça fait trop longtemps que nous n’avons pas pu nous rencontrer\, l’Association des parents de l’École Neuve vous invite à notre première BOUM 9ve!   \n\n\n\nUn Gouter-apéro-dinatoire-dansant le 19 mars entre 15h30 à 22h. Une manière conviviale et festive de tisser des liens autour de notre belle école. On va danser\, on va manger\, on va faire connaissance et s’amuser !  \n\n\n\nLe concept sera un type d’Auberge espagnole: vous amenez ce que vous voulez à manger et on s’occupe des boissons. \n\n\n\n\n\n\n\n\n\n\n\nInfos pratiques:  \n\n\n\nOù: Au citizen Corner – Rue Godefroid Devreese 34\, Schaerbeek (map)Quand: le 19 mars entre 15h30 à 22hInscrivez-vous ci-dessous avant le 12 mars et dites-nous ce que vous apportez à manger en fonction de votre heure de venueInvitation strictement réservée aux familles de l’École Neuve. \n\n\n\nVous avez des talents\, ressources ou autre à partager avec l’école ou AP dans le cadre d’ateliers et d’événements. Génial: compléter notre liste! \n\n\n\n\n\n\n\nInscrivez-vous maintenant \n\n\n\n	Remarque : JavaScript est requis pour ce contenu.
URL:https://ap.ecole9ve.be/event/la-boom-9ve/
LOCATION:Citizen Corner\, Rue Godefroid Devreese 34\, Bruxelles\, 1030\, Belgium
ATTACH;FMTTYPE=image/png:https://ap.ecole9ve.be/wp-content/uploads/2022/02/La-BOUM-9ve-sharepic-FB-web.png
END:VEVENT
BEGIN:VEVENT
DTSTART;TZID=Europe/Brussels:20211007T190000
DTEND;TZID=Europe/Brussels:20211007T210000
DTSTAMP:20260419T173238
CREATED:20210922T200824Z
LAST-MODIFIED:20210924T115849Z
UID:234-1633633200-1633640400@ap.ecole9ve.be
SUMMARY:Assemblée Générale de l’Association des Parents  de l’Ecole Neuve
DESCRIPTION:Chers parents\,  \n\n\n\nNous espérons que vous avez trouvé votre rythme avec cet été qui joue les prolongations est la rentrée scolaire qui est derrière nous. \n\n\n\nCette année scolaire sera une année de liens\, de rencontres\, de projets\, d’événements festifs\, de joie\, … mais pour cela nous avons besoin de vous!! \n\n\n\nL’Association des Parents (AP) cherche du sang neuf\, des parents motivés pour continuer à soutenir l’école et être source de projets. \n\n\n\nC’est pour cela que nous organisons une Assemblée Générale élective le jeudi 7 octobre!! Rendez-vous à 19h dans l’école pour la réunion suivie d’un verre de l’amitié. \n\n\n\nPour rappel l’AP a une structure circulaire et comprend 3 cellules: 1 Cellule Administrative\, la Cellule du Conseil de Participation et une Cellule Communication.  A côté de ces cellules un Comité des fêtes indépendant va être créé pour co-organiser des événements avec l’école Neuve (brocante\, marché de Noël\, …) et ici aussi nous aurons besoin de vous 😉  \n\n\n\nVous trouverez plus d’informations dans le Règlement d’ordre intérieur (disponible ici) et dans la Foire aux Questions (disponible ici). \n\n\n\nPrenez également connaissance du dernier Procès-verbal de la dernière Assemblée Générale du mois de juin (disponible ici) car celui-ci devra être validé le 7 octobre. \n\n\n\nMerci de nous communiquer votre présence avant le 3 octobre pour des soucis d’organisation et de réservations. \n\n\n\nSi vous désirez vous inscrire dans une cellule de l’Association des Parents\, vous pouvez le faire ici : Appel à Candidature des membres actifs de l’AP \n\n\n\nRejoignez-nous et devenez membre de la vie scolaire de nos enfants. Confirmez votre présence maintenant !  \n\n\n\n	Remarque : JavaScript est requis pour ce contenu.
URL:https://ap.ecole9ve.be/event/assemblee-generale-de-lassociation-des-parents-de-lecole-neuve/
LOCATION:Ecole Neuve\, Av. Ernest Cambier 2\,\, Schaerbeek
ATTACH;FMTTYPE=image/jpeg:https://ap.ecole9ve.be/wp-content/uploads/2021/09/ag-thumbnail.jpg
END:VEVENT
BEGIN:VEVENT
DTSTART;TZID=Europe/Brussels:20210617T180000
DTEND;TZID=Europe/Brussels:20210617T203000
DTSTAMP:20260419T173238
CREATED:20210614T073106Z
LAST-MODIFIED:20210614T073307Z
UID:217-1623952800-1623961800@ap.ecole9ve.be
SUMMARY:Assemblée générale (AG) de l’AP
DESCRIPTION:Pour en savoir plus: https://ap.ecole9ve.be/2021/06/11/assemblee-generale-de-lassociation-des-parents-17-juin-2021/
URL:https://ap.ecole9ve.be/event/assemblee-generale-ag-de-lap/
END:VEVENT
BEGIN:VEVENT
DTSTART;TZID=Europe/Brussels:20210603T200000
DTEND;TZID=Europe/Brussels:20210603T200000
DTSTAMP:20260419T173238
CREATED:20210527T190046Z
LAST-MODIFIED:20210527T190047Z
UID:203-1622750400-1622750400@ap.ecole9ve.be
SUMMARY:Réunion du Noyau de l’AP
DESCRIPTION:
URL:https://ap.ecole9ve.be/event/reunion-du-noyau-de-lap-4/
END:VEVENT
BEGIN:VEVENT
DTSTART;TZID=Europe/Brussels:20210527T200000
DTEND;TZID=Europe/Brussels:20210527T210000
DTSTAMP:20260419T173238
CREATED:20201204T094605Z
LAST-MODIFIED:20210517T175658Z
UID:158-1622145600-1622149200@ap.ecole9ve.be
SUMMARY:Réunion du Noyau de l’AP
DESCRIPTION:
URL:https://ap.ecole9ve.be/event/reunion-du-noyau-de-lap-20210603/
END:VEVENT
BEGIN:VEVENT
DTSTART;TZID=Europe/Brussels:20210517T190000
DTEND;TZID=Europe/Brussels:20210517T200000
DTSTAMP:20260419T173238
CREATED:20210515T125124Z
LAST-MODIFIED:20210515T125124Z
UID:197-1621278000-1621281600@ap.ecole9ve.be
SUMMARY:Réunion du Noyau de l’AP
DESCRIPTION:
URL:https://ap.ecole9ve.be/event/reunion-du-noyau-de-lap-2/
END:VEVENT
BEGIN:VEVENT
DTSTART;TZID=Europe/Brussels:20210506T190000
DTEND;TZID=Europe/Brussels:20210506T200000
DTSTAMP:20260419T173238
CREATED:20210515T125242Z
LAST-MODIFIED:20210515T125243Z
UID:199-1620327600-1620331200@ap.ecole9ve.be
SUMMARY:Réunion du Noyau de l’AP
DESCRIPTION:
URL:https://ap.ecole9ve.be/event/reunion-du-noyau-de-lap-3/
END:VEVENT
BEGIN:VEVENT
DTSTART;TZID=Europe/Brussels:20210401T190000
DTEND;TZID=Europe/Brussels:20210401T200000
DTSTAMP:20260419T173238
CREATED:20210304T191608Z
LAST-MODIFIED:20210304T191609Z
UID:193-1617303600-1617307200@ap.ecole9ve.be
SUMMARY:Réunion du Noyau de l’AP
DESCRIPTION:
URL:https://ap.ecole9ve.be/event/reunion-du-noyau-de-lap/
END:VEVENT
BEGIN:VEVENT
DTSTART;TZID=Europe/Brussels:20210304T190000
DTEND;TZID=Europe/Brussels:20210304T190000
DTSTAMP:20260419T173238
CREATED:20201204T094503Z
LAST-MODIFIED:20201204T094747Z
UID:154-1614884400-1614884400@ap.ecole9ve.be
SUMMARY:Réunion du Noyau de l’AP
DESCRIPTION:
URL:https://ap.ecole9ve.be/event/reunion-du-noyau-de-lap-20210304/
END:VEVENT
BEGIN:VEVENT
DTSTART;TZID=Europe/Brussels:20210204T190000
DTEND;TZID=Europe/Brussels:20210204T190000
DTSTAMP:20260419T173238
CREATED:20201204T094128Z
LAST-MODIFIED:20201204T094728Z
UID:151-1612465200-1612465200@ap.ecole9ve.be
SUMMARY:Réunion du Noyau de l’AP
DESCRIPTION:
URL:https://ap.ecole9ve.be/event/reunion-du-noyau-de-lap-20210204/
END:VEVENT
BEGIN:VEVENT
DTSTART;TZID=Europe/Brussels:20210107T190000
DTEND;TZID=Europe/Brussels:20210107T203000
DTSTAMP:20260419T173238
CREATED:20201204T094332Z
LAST-MODIFIED:20201204T094706Z
UID:149-1610046000-1610051400@ap.ecole9ve.be
SUMMARY:Réunion du Noyau de l’AP
DESCRIPTION:
URL:https://ap.ecole9ve.be/event/reunion-du-noyau-de-lap-20210107/
END:VEVENT
BEGIN:VEVENT
DTSTART;TZID=Europe/Brussels:20201215T190000
DTEND;TZID=Europe/Brussels:20201215T203000
DTSTAMP:20260419T173238
CREATED:20201204T093850Z
LAST-MODIFIED:20201214T124539Z
UID:147-1608058800-1608064200@ap.ecole9ve.be
SUMMARY:Réunion du Noyau de l’AP
DESCRIPTION:En ligne (Jitsi.meet)
URL:https://ap.ecole9ve.be/event/reunion-du-noyau-de-lap-20201210/
END:VEVENT
BEGIN:VEVENT
DTSTART;TZID=Europe/Brussels:20201112T190000
DTEND;TZID=Europe/Brussels:20201112T190000
DTSTAMP:20260419T173238
CREATED:20201024T111222Z
LAST-MODIFIED:20201204T094143Z
UID:119-1605207600-1605207600@ap.ecole9ve.be
SUMMARY:Réunion du Noyau de l'AP
DESCRIPTION:En ligne (Jitsi.meet)
URL:https://ap.ecole9ve.be/event/reunion-du-noyau-de-lap-20201024/
END:VEVENT
END:VCALENDAR